BEGIN:VCALENDAR
VERSION:2.0
PRODID:-//Seabottom Whisky Club - ECPv6.15.20//NONSGML v1.0//EN
CALSCALE:GREGORIAN
METHOD:PUBLISH
X-ORIGINAL-URL:https://sbwc.nl
X-WR-CALDESC:Evenementen voor Seabottom Whisky Club
REFRESH-INTERVAL;VALUE=DURATION:PT1H
X-Robots-Tag:noindex
X-PUBLISHED-TTL:PT1H
BEGIN:VTIMEZONE
TZID:Europe/Amsterdam
BEGIN:DAYLIGHT
TZOFFSETFROM:+0100
TZOFFSETTO:+0200
TZNAME:CEST
DTSTART:20210328T010000
END:DAYLIGHT
BEGIN:STANDARD
TZOFFSETFROM:+0200
TZOFFSETTO:+0100
TZNAME:CET
DTSTART:20211031T010000
END:STANDARD
BEGIN:DAYLIGHT
TZOFFSETFROM:+0100
TZOFFSETTO:+0200
TZNAME:CEST
DTSTART:20220327T010000
END:DAYLIGHT
BEGIN:STANDARD
TZOFFSETFROM:+0200
TZOFFSETTO:+0100
TZNAME:CET
DTSTART:20221030T010000
END:STANDARD
BEGIN:DAYLIGHT
TZOFFSETFROM:+0100
TZOFFSETTO:+0200
TZNAME:CEST
DTSTART:20230326T010000
END:DAYLIGHT
BEGIN:STANDARD
TZOFFSETFROM:+0200
TZOFFSETTO:+0100
TZNAME:CET
DTSTART:20231029T010000
END:STANDARD
END:VTIMEZONE
BEGIN:VEVENT
DTSTART;TZID=Europe/Amsterdam:20220917T130000
DTEND;TZID=Europe/Amsterdam:20220917T170000
DTSTAMP:20260424T122603
CREATED:20220526T115104Z
LAST-MODIFIED:20220526T115104Z
UID:1692-1663419600-1663434000@sbwc.nl
SUMMARY:Summer Whisky Festival
DESCRIPTION:Summer Whisky Festival in Alkmaar\, georganiseerd door Hielander Whisky Festival.
URL:https://sbwc.nl/agenda-new/summer-whisky-festival/
LOCATION:HAL 25\, Pettermerstraat 15\, Alkmaar\, 1823CW\, Nederland
ATTACH;FMTTYPE=image/jpeg:https://sbwc.nl/wp-content/uploads/2022/05/13475085_1397002916983209_3532529499366762931_o.jpg
ORGANIZER;CN="SBWC":MAILTO:voorzitter@sbwc.nl
END:VEVENT
END:VCALENDAR