BEGIN:VCALENDAR
VERSION:2.0
PRODID:-//Seabottom Whisky Club - ECPv6.15.20//NONSGML v1.0//EN
CALSCALE:GREGORIAN
METHOD:PUBLISH
X-WR-CALNAME:Seabottom Whisky Club
X-ORIGINAL-URL:https://sbwc.nl
X-WR-CALDESC:Evenementen voor Seabottom Whisky Club
REFRESH-INTERVAL;VALUE=DURATION:PT1H
X-Robots-Tag:noindex
X-PUBLISHED-TTL:PT1H
BEGIN:VTIMEZONE
TZID:Europe/Amsterdam
BEGIN:DAYLIGHT
TZOFFSETFROM:+0100
TZOFFSETTO:+0200
TZNAME:CEST
DTSTART:20220327T010000
END:DAYLIGHT
BEGIN:STANDARD
TZOFFSETFROM:+0200
TZOFFSETTO:+0100
TZNAME:CET
DTSTART:20221030T010000
END:STANDARD
BEGIN:DAYLIGHT
TZOFFSETFROM:+0100
TZOFFSETTO:+0200
TZNAME:CEST
DTSTART:20230326T010000
END:DAYLIGHT
BEGIN:STANDARD
TZOFFSETFROM:+0200
TZOFFSETTO:+0100
TZNAME:CET
DTSTART:20231029T010000
END:STANDARD
BEGIN:DAYLIGHT
TZOFFSETFROM:+0100
TZOFFSETTO:+0200
TZNAME:CEST
DTSTART:20240331T010000
END:DAYLIGHT
BEGIN:STANDARD
TZOFFSETFROM:+0200
TZOFFSETTO:+0100
TZNAME:CET
DTSTART:20241027T010000
END:STANDARD
END:VTIMEZONE
BEGIN:VEVENT
DTSTART;TZID=Europe/Amsterdam:20230205T120000
DTEND;TZID=Europe/Amsterdam:20230205T134000
DTSTAMP:20260424T054546
CREATED:20230205T110012Z
LAST-MODIFIED:20230115T125545Z
UID:1802-1675598400-1675604400@sbwc.nl
SUMMARY:ALV - 2023
DESCRIPTION:Agenda volgt spoedig
URL:https://sbwc.nl/agenda-new/alv/
LOCATION:Aan Ut Water\, Lelystad\, IJsselmeerdijk 17\, Lelystad\, Flevoland\, 8221RC\, Nederland
ORGANIZER;CN="SBWC":MAILTO:voorzitter@sbwc.nl
END:VEVENT
BEGIN:VEVENT
DTSTART;TZID=Europe/Amsterdam:20230205T140000
DTEND;TZID=Europe/Amsterdam:20230205T170000
DTSTAMP:20260424T054546
CREATED:20230115T125436Z
LAST-MODIFIED:20230115T131007Z
UID:1804-1675605600-1675616400@sbwc.nl
SUMMARY:N&T1 - Canadees-Deense whiskyoorlog
DESCRIPTION:Al sinds 1973 woed een heftige\, docht ijskoude strijd op Hanseiland\, een eiland tussen Groenland (Denemarken) en Canada. Heel lang was de enige oplossing in het vooruitzicht een oplossing van alcohol in de flessen sterke drank die de eilanden achterlieten bij het hijsen van hun vlag. Inmiddels is deze koude oorlog werkelijk bevroren en zijn er diplomatieke afspraken gemaakt over de verdeling van het stuk land dat ook voor Rusland en de VS een interessant bezit kan zijn. \nWe gaan de spanning proeven in een hierdoor gethematiseerde N&T door Ronald van der \nNRC artikel
URL:https://sbwc.nl/agenda-new/nt1-canadees-deense-whiskyoorlog/
LOCATION:Aan Ut Water\, Lelystad\, IJsselmeerdijk 17\, Lelystad\, Flevoland\, 8221RC\, Nederland
ATTACH;FMTTYPE=image/jpeg:https://sbwc.nl/wp-content/uploads/2023/01/wit-canada-island-superJumbo-1.jpg
END:VEVENT
END:VCALENDAR