BEGIN:VCALENDAR
VERSION:2.0
PRODID:-//Seabottom Whisky Club - ECPv6.15.20//NONSGML v1.0//EN
CALSCALE:GREGORIAN
METHOD:PUBLISH
X-WR-CALNAME:Seabottom Whisky Club
X-ORIGINAL-URL:https://sbwc.nl
X-WR-CALDESC:Evenementen voor Seabottom Whisky Club
REFRESH-INTERVAL;VALUE=DURATION:PT1H
X-Robots-Tag:noindex
X-PUBLISHED-TTL:PT1H
BEGIN:VTIMEZONE
TZID:Europe/Amsterdam
BEGIN:DAYLIGHT
TZOFFSETFROM:+0100
TZOFFSETTO:+0200
TZNAME:CEST
DTSTART:20220327T010000
END:DAYLIGHT
BEGIN:STANDARD
TZOFFSETFROM:+0200
TZOFFSETTO:+0100
TZNAME:CET
DTSTART:20221030T010000
END:STANDARD
BEGIN:DAYLIGHT
TZOFFSETFROM:+0100
TZOFFSETTO:+0200
TZNAME:CEST
DTSTART:20230326T010000
END:DAYLIGHT
BEGIN:STANDARD
TZOFFSETFROM:+0200
TZOFFSETTO:+0100
TZNAME:CET
DTSTART:20231029T010000
END:STANDARD
BEGIN:DAYLIGHT
TZOFFSETFROM:+0100
TZOFFSETTO:+0200
TZNAME:CEST
DTSTART:20240331T010000
END:DAYLIGHT
BEGIN:STANDARD
TZOFFSETFROM:+0200
TZOFFSETTO:+0100
TZNAME:CET
DTSTART:20241027T010000
END:STANDARD
END:VTIMEZONE
BEGIN:VEVENT
DTSTART;TZID=Europe/Amsterdam:20230903T140000
DTEND;TZID=Europe/Amsterdam:20230903T170000
DTSTAMP:20260421T220400
CREATED:20230115T134707Z
LAST-MODIFIED:20230212T114514Z
UID:1824-1693749600-1693760400@sbwc.nl
SUMMARY:N&T4
DESCRIPTION:Voor deze nosing and tasting is helaas nog geen invulling. Geinspireerd? Mail naar secretaris@sbwc.nl
URL:https://sbwc.nl/agenda-new/nt4-2/
LOCATION:Aan Ut Water\, Lelystad\, IJsselmeerdijk 17\, Lelystad\, Flevoland\, 8221RC\, Nederland
ATTACH;FMTTYPE=image/jpeg:https://sbwc.nl/wp-content/uploads/2023/01/Onderzoeksvraag.jpg
END:VEVENT
END:VCALENDAR