BEGIN:VCALENDAR
VERSION:2.0
PRODID:-//Seabottom Whisky Club - ECPv6.15.20//NONSGML v1.0//EN
CALSCALE:GREGORIAN
METHOD:PUBLISH
X-WR-CALNAME:Seabottom Whisky Club
X-ORIGINAL-URL:https://sbwc.nl
X-WR-CALDESC:Evenementen voor Seabottom Whisky Club
REFRESH-INTERVAL;VALUE=DURATION:PT1H
X-Robots-Tag:noindex
X-PUBLISHED-TTL:PT1H
BEGIN:VTIMEZONE
TZID:Europe/Amsterdam
BEGIN:DAYLIGHT
TZOFFSETFROM:+0100
TZOFFSETTO:+0200
TZNAME:CEST
DTSTART:20230326T010000
END:DAYLIGHT
BEGIN:STANDARD
TZOFFSETFROM:+0200
TZOFFSETTO:+0100
TZNAME:CET
DTSTART:20231029T010000
END:STANDARD
BEGIN:DAYLIGHT
TZOFFSETFROM:+0100
TZOFFSETTO:+0200
TZNAME:CEST
DTSTART:20240331T010000
END:DAYLIGHT
BEGIN:STANDARD
TZOFFSETFROM:+0200
TZOFFSETTO:+0100
TZNAME:CET
DTSTART:20241027T010000
END:STANDARD
BEGIN:DAYLIGHT
TZOFFSETFROM:+0100
TZOFFSETTO:+0200
TZNAME:CEST
DTSTART:20250330T010000
END:DAYLIGHT
BEGIN:STANDARD
TZOFFSETFROM:+0200
TZOFFSETTO:+0100
TZNAME:CET
DTSTART:20251026T010000
END:STANDARD
END:VTIMEZONE
BEGIN:VEVENT
DTSTART;TZID=Europe/Amsterdam:20240211T120000
DTEND;TZID=Europe/Amsterdam:20240211T133000
DTSTAMP:20260421T145518
CREATED:20231210T103315Z
LAST-MODIFIED:20231210T103315Z
UID:1870-1707652800-1707658200@sbwc.nl
SUMMARY:ALV - 2024
DESCRIPTION:Agenda volgt spoedig
URL:https://sbwc.nl/agenda-new/alv-2024/
LOCATION:Aan Ut Water\, Lelystad\, IJsselmeerdijk 17\, Lelystad\, Flevoland\, 8221RC\, Nederland
ORGANIZER;CN="SBWC":MAILTO:voorzitter@sbwc.nl
END:VEVENT
BEGIN:VEVENT
DTSTART;TZID=Europe/Amsterdam:20240211T140000
DTEND;TZID=Europe/Amsterdam:20240211T170000
DTSTAMP:20260421T145518
CREATED:20231210T103221Z
LAST-MODIFIED:20231210T103221Z
UID:1865-1707660000-1707670800@sbwc.nl
SUMMARY:N&T1 - SMWS tasting
DESCRIPTION:The Scotch Malt and Whisky Society\nSince we were formed in 1983\, we’ve believed in doing things differently. As unconventional whisky experts we seek out whisky in its purest form\, prize flavour above everything else and give each bottling a curious name. We’re united and constant in our passion – to share the world’s best whiskies\, to bring them to life\, and to make you proud to belong to the world’s most colourful whisky club.
URL:https://sbwc.nl/agenda-new/nt1-smws-tasting/
LOCATION:Aan Ut Water\, Lelystad\, IJsselmeerdijk 17\, Lelystad\, Flevoland\, 8221RC\, Nederland
ATTACH;FMTTYPE=image/webp:https://sbwc.nl/wp-content/uploads/2023/12/SMWS.webp
END:VEVENT
END:VCALENDAR