BEGIN:VCALENDAR
VERSION:2.0
PRODID:-//Seabottom Whisky Club - ECPv6.15.20//NONSGML v1.0//EN
CALSCALE:GREGORIAN
METHOD:PUBLISH
X-WR-CALNAME:Seabottom Whisky Club
X-ORIGINAL-URL:https://sbwc.nl
X-WR-CALDESC:Evenementen voor Seabottom Whisky Club
REFRESH-INTERVAL;VALUE=DURATION:PT1H
X-Robots-Tag:noindex
X-PUBLISHED-TTL:PT1H
BEGIN:VTIMEZONE
TZID:Europe/Amsterdam
BEGIN:DAYLIGHT
TZOFFSETFROM:+0100
TZOFFSETTO:+0200
TZNAME:CEST
DTSTART:20240331T010000
END:DAYLIGHT
BEGIN:STANDARD
TZOFFSETFROM:+0200
TZOFFSETTO:+0100
TZNAME:CET
DTSTART:20241027T010000
END:STANDARD
BEGIN:DAYLIGHT
TZOFFSETFROM:+0100
TZOFFSETTO:+0200
TZNAME:CEST
DTSTART:20250330T010000
END:DAYLIGHT
BEGIN:STANDARD
TZOFFSETFROM:+0200
TZOFFSETTO:+0100
TZNAME:CET
DTSTART:20251026T010000
END:STANDARD
BEGIN:DAYLIGHT
TZOFFSETFROM:+0100
TZOFFSETTO:+0200
TZNAME:CEST
DTSTART:20260329T010000
END:DAYLIGHT
BEGIN:STANDARD
TZOFFSETFROM:+0200
TZOFFSETTO:+0100
TZNAME:CET
DTSTART:20261025T010000
END:STANDARD
END:VTIMEZONE
BEGIN:VEVENT
DTSTART;TZID=Europe/Amsterdam:20250511T140000
DTEND;TZID=Europe/Amsterdam:20250511T170000
DTSTAMP:20260421T132029
CREATED:20241201T230205Z
LAST-MODIFIED:20251103T130554Z
UID:1959-1746972000-1746982800@sbwc.nl
SUMMARY:N&T 3
DESCRIPTION:verzorgd door WhiskyDudes
URL:https://sbwc.nl/agenda-new/3e-nt/
LOCATION:Aan ut Water\, Overstag 20\, Lelystad\, Flevoland\, 8221RG\, Nederland
ATTACH;FMTTYPE=image/png:https://sbwc.nl/wp-content/uploads/2024/12/Screenshot_1.png
ORGANIZER;CN="Rob Korff":MAILTO:voorzitter@sbwc.nl
END:VEVENT
END:VCALENDAR