BEGIN:VCALENDAR
VERSION:2.0
PRODID:-//Seabottom Whisky Club - ECPv6.15.20//NONSGML v1.0//EN
CALSCALE:GREGORIAN
METHOD:PUBLISH
X-WR-CALNAME:Seabottom Whisky Club
X-ORIGINAL-URL:https://sbwc.nl
X-WR-CALDESC:Evenementen voor Seabottom Whisky Club
REFRESH-INTERVAL;VALUE=DURATION:PT1H
X-Robots-Tag:noindex
X-PUBLISHED-TTL:PT1H
BEGIN:VTIMEZONE
TZID:Europe/Amsterdam
BEGIN:DAYLIGHT
TZOFFSETFROM:+0100
TZOFFSETTO:+0200
TZNAME:CEST
DTSTART:20200329T010000
END:DAYLIGHT
BEGIN:STANDARD
TZOFFSETFROM:+0200
TZOFFSETTO:+0100
TZNAME:CET
DTSTART:20201025T010000
END:STANDARD
BEGIN:DAYLIGHT
TZOFFSETFROM:+0100
TZOFFSETTO:+0200
TZNAME:CEST
DTSTART:20210328T010000
END:DAYLIGHT
BEGIN:STANDARD
TZOFFSETFROM:+0200
TZOFFSETTO:+0100
TZNAME:CET
DTSTART:20211031T010000
END:STANDARD
BEGIN:DAYLIGHT
TZOFFSETFROM:+0100
TZOFFSETTO:+0200
TZNAME:CEST
DTSTART:20220327T010000
END:DAYLIGHT
BEGIN:STANDARD
TZOFFSETFROM:+0200
TZOFFSETTO:+0100
TZNAME:CET
DTSTART:20221030T010000
END:STANDARD
BEGIN:DAYLIGHT
TZOFFSETFROM:+0100
TZOFFSETTO:+0200
TZNAME:CEST
DTSTART:20230326T010000
END:DAYLIGHT
BEGIN:STANDARD
TZOFFSETFROM:+0200
TZOFFSETTO:+0100
TZNAME:CET
DTSTART:20231029T010000
END:STANDARD
END:VTIMEZONE
BEGIN:VEVENT
DTSTART;TZID=Europe/Amsterdam:20220410T140000
DTEND;TZID=Europe/Amsterdam:20220410T170000
DTSTAMP:20260421T193519
CREATED:20220402T115437Z
LAST-MODIFIED:20220411T084832Z
UID:1439-1649599200-1649610000@sbwc.nl
SUMMARY:N&T2 - Hout 2
DESCRIPTION:In deze tasting onderzoeken we de invloed van het type hout op whisky. Dit is een vervolg op de eerdere ‘hout’-tasting medio 2020. \nBijzonder aan deze tasting was de serie whisky’s die met moeite vanuit alle hoeken van de wereld geïmporteerd waren. Het betrof de volledige KAIYõ serie\, whisky gerijpt op Japans eikenhouten vaten. \n 
URL:https://sbwc.nl/agenda-new/nt2-hout-2/
LOCATION:Aan Ut Water\, Lelystad\, IJsselmeerdijk 17\, Lelystad\, Flevoland\, 8221RC\, Nederland
ATTACH;FMTTYPE=image/png:https://sbwc.nl/wp-content/uploads/2022/04/houtwhisky.png
END:VEVENT
BEGIN:VEVENT
DTSTART;TZID=Europe/Amsterdam:20220206T140000
DTEND;TZID=Europe/Amsterdam:20220206T170000
DTSTAMP:20260421T193519
CREATED:20220402T114728Z
LAST-MODIFIED:20220402T115143Z
UID:1431-1644156000-1644166800@sbwc.nl
SUMMARY:N&T1 - Glenrothes Soleo
DESCRIPTION:In deze tasting wordt de invloed van sherryvaten op de Glenrothes whisky uitgelicht.
URL:https://sbwc.nl/agenda-new/nt1-glenrothes-soleo/
LOCATION:Aan Ut Water\, Lelystad\, IJsselmeerdijk 17\, Lelystad\, Flevoland\, 8221RC\, Nederland
ATTACH;FMTTYPE=image/jpeg:https://sbwc.nl/wp-content/uploads/2022/04/Glenrothes-Soleo-serie.jpeg
ORGANIZER;CN="SBWC":MAILTO:voorzitter@sbwc.nl
END:VEVENT
BEGIN:VEVENT
DTSTART;TZID=Europe/Amsterdam:20220206T130000
DTEND;TZID=Europe/Amsterdam:20220206T170000
DTSTAMP:20260421T193519
CREATED:20220127T095859Z
LAST-MODIFIED:20220127T100756Z
UID:1403-1644152400-1644166800@sbwc.nl
SUMMARY:ALV 2022
DESCRIPTION:Op 6 februari organiseren we weer een ALV bij Aan ut Water in Lelystad. Uiteraard met een kleine tasting erbij.
URL:https://sbwc.nl/agenda-new/alv-2022/
LOCATION:Aan ut Water\, Overstag 20\, Lelystad\, Flevoland\, 8221RG\, Nederland
ATTACH;FMTTYPE=image/jpeg:https://sbwc.nl/wp-content/uploads/2021/11/SBWC-tasting.jpg
ORGANIZER;CN="Rob Korff":MAILTO:voorzitter@sbwc.nl
END:VEVENT
BEGIN:VEVENT
DTSTART;TZID=Europe/Amsterdam:20211013T200000
DTEND;TZID=Europe/Amsterdam:20211013T220000
DTSTAMP:20260421T193519
CREATED:20211001T091204Z
LAST-MODIFIED:20220127T101510Z
UID:1411-1634155200-1634162400@sbwc.nl
SUMMARY:Nosing and tasting oktober 2021
DESCRIPTION:Op 13 oktober zal de laatste Nosing and Tasting van dit jaar worden gehouden in Aan Ut Water in Lelystad. Het thema zal zijn: Game of Thrones\, de complete serie van acht flessen! Nog nooit vertoond bij onze whiskyclub\, zó’n groot aanbod in een proeverij. Het aantal plaatsen is beperkt\, dus reserveer snel!
URL:https://sbwc.nl/agenda-new/nosing-and-tasting-oktober-2021/
LOCATION:Aan ut Water\, Overstag 20\, Lelystad\, Flevoland\, 8221RG\, Nederland
ATTACH;FMTTYPE=image/jpeg:https://sbwc.nl/wp-content/uploads/2019/10/GOT.jpg
ORGANIZER;CN="Rob Korff":MAILTO:voorzitter@sbwc.nl
END:VEVENT
END:VCALENDAR