BEGIN:VCALENDAR
VERSION:2.0
PRODID:-//Seabottom Whisky Club - ECPv6.15.20//NONSGML v1.0//EN
CALSCALE:GREGORIAN
METHOD:PUBLISH
X-WR-CALNAME:Seabottom Whisky Club
X-ORIGINAL-URL:https://sbwc.nl
X-WR-CALDESC:Evenementen voor Seabottom Whisky Club
REFRESH-INTERVAL;VALUE=DURATION:PT1H
X-Robots-Tag:noindex
X-PUBLISHED-TTL:PT1H
BEGIN:VTIMEZONE
TZID:Europe/Amsterdam
BEGIN:DAYLIGHT
TZOFFSETFROM:+0100
TZOFFSETTO:+0200
TZNAME:CEST
DTSTART:20210328T010000
END:DAYLIGHT
BEGIN:STANDARD
TZOFFSETFROM:+0200
TZOFFSETTO:+0100
TZNAME:CET
DTSTART:20211031T010000
END:STANDARD
BEGIN:DAYLIGHT
TZOFFSETFROM:+0100
TZOFFSETTO:+0200
TZNAME:CEST
DTSTART:20220327T010000
END:DAYLIGHT
BEGIN:STANDARD
TZOFFSETFROM:+0200
TZOFFSETTO:+0100
TZNAME:CET
DTSTART:20221030T010000
END:STANDARD
BEGIN:DAYLIGHT
TZOFFSETFROM:+0100
TZOFFSETTO:+0200
TZNAME:CEST
DTSTART:20230326T010000
END:DAYLIGHT
BEGIN:STANDARD
TZOFFSETFROM:+0200
TZOFFSETTO:+0100
TZNAME:CET
DTSTART:20231029T010000
END:STANDARD
END:VTIMEZONE
BEGIN:VEVENT
DTSTART;VALUE=DATE:20220520
DTEND;VALUE=DATE:20220521
DTSTAMP:20260424T162719
CREATED:20220420T094304Z
LAST-MODIFIED:20220420T094304Z
UID:1675-1653004800-1653091199@sbwc.nl
SUMMARY:Zwolle - Festival Feast @FIDDER
DESCRIPTION:Festival season is on!! In Scotland\, May is the month of whisky festivals! SMWS Benelux will celebrate the festivals with 3 separate tastings. Highlighting our great exclusive spirits in the spirit of sharing! \nThis month we like encourage our members to bring non-member friends to share their Society experience! If you buy a ticket for a tasting in May\, you can bring one non-member friend for free and introduce them to our great community! \nJoin our Dutch Ambassador Bob Wenting and the Fidder team in celebrating our unique and exclusive festival bottlings! \nOn the 20th of may we will be at our long time Partner Bar: Patrick’s Whisky Bar in Zwolle. If you want to enjoy a relaxed evening at the Whisky Bar after the tasting\, want to explore the beautiful city of Zwolle or enhance your experience through enjoying the great bar food and breakfast Fidder offers\, this is your chance. \nEen overnachting er aan vast plakken? Klik op de link voor een kortingscode!
URL:https://sbwc.nl/agenda-new/zwolle-festival-feast-fidder/
LOCATION:Patrick’s Whiskybar\, Kon. Wilhelminastraat 6\, Zwolle\, Gelderland\, 8019 AM\, Nederland
ATTACH;FMTTYPE=image/png:https://sbwc.nl/wp-content/uploads/2022/04/SMWS_fidder.png
END:VEVENT
BEGIN:VEVENT
DTSTART;TZID=Europe/Amsterdam:20220529T133000
DTEND;TZID=Europe/Amsterdam:20220529T160000
DTSTAMP:20260424T162719
CREATED:20220526T113900Z
LAST-MODIFIED:20220526T113900Z
UID:1687-1653831000-1653840000@sbwc.nl
SUMMARY:Bezoek Zuidam
DESCRIPTION:Rondleiding bij Zuidam te Baarle-Nassau.
URL:https://sbwc.nl/agenda-new/bezoek-zuidam/
LOCATION:Zuidam Distillers\, Smederijstraat\, Baarle-Nassau\, 5111PT\, Nederland
ATTACH;FMTTYPE=image/jpeg:https://sbwc.nl/wp-content/uploads/2022/05/4beaebc8f83fe87e4265ae0fb0b128f24e972b66.jpeg
END:VEVENT
END:VCALENDAR