BEGIN:VCALENDAR
VERSION:2.0
PRODID:-//Seabottom Whisky Club - ECPv6.15.20//NONSGML v1.0//EN
CALSCALE:GREGORIAN
METHOD:PUBLISH
X-ORIGINAL-URL:https://sbwc.nl
X-WR-CALDESC:Evenementen voor Seabottom Whisky Club
REFRESH-INTERVAL;VALUE=DURATION:PT1H
X-Robots-Tag:noindex
X-PUBLISHED-TTL:PT1H
BEGIN:VTIMEZONE
TZID:Europe/Amsterdam
BEGIN:DAYLIGHT
TZOFFSETFROM:+0100
TZOFFSETTO:+0200
TZNAME:CEST
DTSTART:20220327T010000
END:DAYLIGHT
BEGIN:STANDARD
TZOFFSETFROM:+0200
TZOFFSETTO:+0100
TZNAME:CET
DTSTART:20221030T010000
END:STANDARD
BEGIN:DAYLIGHT
TZOFFSETFROM:+0100
TZOFFSETTO:+0200
TZNAME:CEST
DTSTART:20230326T010000
END:DAYLIGHT
BEGIN:STANDARD
TZOFFSETFROM:+0200
TZOFFSETTO:+0100
TZNAME:CET
DTSTART:20231029T010000
END:STANDARD
BEGIN:DAYLIGHT
TZOFFSETFROM:+0100
TZOFFSETTO:+0200
TZNAME:CEST
DTSTART:20240331T010000
END:DAYLIGHT
BEGIN:STANDARD
TZOFFSETFROM:+0200
TZOFFSETTO:+0100
TZNAME:CET
DTSTART:20241027T010000
END:STANDARD
END:VTIMEZONE
BEGIN:VEVENT
DTSTART;TZID=Europe/Amsterdam:20230416T140000
DTEND;TZID=Europe/Amsterdam:20230416T170000
DTSTAMP:20260424T013445
CREATED:20230115T125753Z
LAST-MODIFIED:20230318T231050Z
UID:1807-1681653600-1681664400@sbwc.nl
SUMMARY:N&T2
DESCRIPTION:Whisky liefhebbers opgelet.\nDe 2e tasting van 2023 wordt een mooie “blinde” tasting.\nEen die de grijze massa en smaak papillen aan het werk zullen zetten. \nMeld je aan via secretaris@sbwc.nl!
URL:https://sbwc.nl/agenda-new/nt2/
LOCATION:Aan Ut Water\, Lelystad\, IJsselmeerdijk 17\, Lelystad\, Flevoland\, 8221RC\, Nederland
ATTACH;FMTTYPE=image/jpeg:https://sbwc.nl/wp-content/uploads/2023/01/Mystery-tasting.jpg
END:VEVENT
END:VCALENDAR